BEGIN:VCALENDAR
VERSION:2.0
PRODID:-//Perry Ohio Historical Society - ECPv6.15.18//NONSGML v1.0//EN
CALSCALE:GREGORIAN
METHOD:PUBLISH
X-WR-CALNAME:Perry Ohio Historical Society
X-ORIGINAL-URL:https://perryohiohistoricalsociety.org
X-WR-CALDESC:Events for Perry Ohio Historical Society
REFRESH-INTERVAL;VALUE=DURATION:PT1H
X-Robots-Tag:noindex
X-PUBLISHED-TTL:PT1H
BEGIN:VTIMEZONE
TZID:America/New_York
BEGIN:DAYLIGHT
TZOFFSETFROM:-0500
TZOFFSETTO:-0400
TZNAME:EDT
DTSTART:20210314T070000
END:DAYLIGHT
BEGIN:STANDARD
TZOFFSETFROM:-0400
TZOFFSETTO:-0500
TZNAME:EST
DTSTART:20211107T060000
END:STANDARD
BEGIN:DAYLIGHT
TZOFFSETFROM:-0500
TZOFFSETTO:-0400
TZNAME:EDT
DTSTART:20220313T070000
END:DAYLIGHT
BEGIN:STANDARD
TZOFFSETFROM:-0400
TZOFFSETTO:-0500
TZNAME:EST
DTSTART:20221106T060000
END:STANDARD
BEGIN:DAYLIGHT
TZOFFSETFROM:-0500
TZOFFSETTO:-0400
TZNAME:EDT
DTSTART:20230312T070000
END:DAYLIGHT
BEGIN:STANDARD
TZOFFSETFROM:-0400
TZOFFSETTO:-0500
TZNAME:EST
DTSTART:20231105T060000
END:STANDARD
END:VTIMEZONE
BEGIN:VEVENT
DTSTART;TZID=America/New_York:20221203T120000
DTEND;TZID=America/New_York:20221203T160000
DTSTAMP:20260425T124616
CREATED:20220929T162844Z
LAST-MODIFIED:20221031T160938Z
UID:314-1670068800-1670083200@perryohiohistoricalsociety.org
SUMMARY:Holiday Open House
DESCRIPTION:Holiday Open House. Join us Saturday\, December3rd from 12:00 to 4:00 for a program of holiday music\, light refreshments and friends at the Perry Historical Museum\, 3885 Main St\, Perry\, Ohio. Providing the music is the duo\, “Serenade” featuring Tommie Wittman playing flute and Brian Dorr on guitar. Our guests are both retired music educators who earned their music degrees from Mount Union University. Tommie currently teaches woodwinds at Rabbit Run Community Arts Association. Brian performs with numerous ensembles and pit orchestras. “Serenade” has entertained audiences for several years and is pleased to return to play for Perry Historical Society. We hope you will enjoy browsing the Museum collection while listening to the music.
URL:https://perryohiohistoricalsociety.org/event/holiday-open-house/
LOCATION:Perry Historical Museum\, 3885 Main Street\, Perry\, 44081\, United States
ATTACH;FMTTYPE=image/jpeg:https://perryohiohistoricalsociety.org/wp-content/uploads/2022/09/Snowman.jpg
END:VEVENT
BEGIN:VEVENT
DTSTART;TZID=America/New_York:20221126T120000
DTEND;TZID=America/New_York:20221126T160000
DTSTAMP:20260425T124616
CREATED:20221014T142846Z
LAST-MODIFIED:20221014T142846Z
UID:771-1669464000-1669478400@perryohiohistoricalsociety.org
SUMMARY:Museum Open
DESCRIPTION:The Museum is open every Saturday from 12pm -4pm
URL:https://perryohiohistoricalsociety.org/event/museum-open-6/
LOCATION:Perry Historical Museum\, 3885 Main Street\, Perry\, 44081\, United States
CATEGORIES:Musuem Open
ATTACH;FMTTYPE=image/jpeg:https://perryohiohistoricalsociety.org/wp-content/uploads/2022/09/perry-historical-museum-1.jpg
END:VEVENT
BEGIN:VEVENT
DTSTART;TZID=America/New_York:20221119T120000
DTEND;TZID=America/New_York:20221119T160000
DTSTAMP:20260425T124616
CREATED:20221014T142654Z
LAST-MODIFIED:20221014T142654Z
UID:769-1668859200-1668873600@perryohiohistoricalsociety.org
SUMMARY:Museum Open
DESCRIPTION:The Museum is open every Saturday from 12pm -4pm
URL:https://perryohiohistoricalsociety.org/event/museum-open-5/
LOCATION:Perry Historical Museum\, 3885 Main Street\, Perry\, 44081\, United States
CATEGORIES:Musuem Open
ATTACH;FMTTYPE=image/jpeg:https://perryohiohistoricalsociety.org/wp-content/uploads/2022/09/perry-historical-museum-1.jpg
END:VEVENT
BEGIN:VEVENT
DTSTART;TZID=America/New_York:20221112T120000
DTEND;TZID=America/New_York:20221112T160000
DTSTAMP:20260425T124616
CREATED:20221014T143246Z
LAST-MODIFIED:20221014T143246Z
UID:779-1668254400-1668268800@perryohiohistoricalsociety.org
SUMMARY:Perry Historical Society Monthly Meeting
DESCRIPTION:Monthly meeting – 12pm – 4pm
URL:https://perryohiohistoricalsociety.org/event/perry-historical-society-monthly-meeting/
LOCATION:Perry Historical Museum\, 3885 Main Street\, Perry\, 44081\, United States
CATEGORIES:Monthly Meeting
ATTACH;FMTTYPE=image/jpeg:https://perryohiohistoricalsociety.org/wp-content/uploads/2022/09/Hourglass-square.jpg
END:VEVENT
BEGIN:VEVENT
DTSTART;TZID=America/New_York:20221112T120000
DTEND;TZID=America/New_York:20221112T160000
DTSTAMP:20260425T124616
CREATED:20221014T142607Z
LAST-MODIFIED:20221014T142607Z
UID:767-1668254400-1668268800@perryohiohistoricalsociety.org
SUMMARY:Museum Open
DESCRIPTION:The Museum is open every Saturday from 12pm -4pm
URL:https://perryohiohistoricalsociety.org/event/museum-open-4/
LOCATION:Perry Historical Museum\, 3885 Main Street\, Perry\, 44081\, United States
CATEGORIES:Musuem Open
ATTACH;FMTTYPE=image/jpeg:https://perryohiohistoricalsociety.org/wp-content/uploads/2022/09/perry-historical-museum-1.jpg
END:VEVENT
BEGIN:VEVENT
DTSTART;TZID=America/New_York:20221105T120000
DTEND;TZID=America/New_York:20221105T160000
DTSTAMP:20260425T124616
CREATED:20221014T142236Z
LAST-MODIFIED:20221014T142513Z
UID:765-1667649600-1667664000@perryohiohistoricalsociety.org
SUMMARY:Museum Open
DESCRIPTION:The Museum is open every Saturday from 12pm -4pm
URL:https://perryohiohistoricalsociety.org/event/museum-open-3/
LOCATION:Perry Historical Museum\, 3885 Main Street\, Perry\, 44081\, United States
CATEGORIES:Musuem Open
ATTACH;FMTTYPE=image/jpeg:https://perryohiohistoricalsociety.org/wp-content/uploads/2022/09/perry-historical-museum-1.jpg
END:VEVENT
BEGIN:VEVENT
DTSTART;TZID=America/New_York:20221029T120000
DTEND;TZID=America/New_York:20221029T160000
DTSTAMP:20260425T124616
CREATED:20221014T142131Z
LAST-MODIFIED:20221014T142759Z
UID:763-1667044800-1667059200@perryohiohistoricalsociety.org
SUMMARY:Museum Open
DESCRIPTION:The Museum is open every Saturday from 12pm -4pm
URL:https://perryohiohistoricalsociety.org/event/museum-open-2/
LOCATION:Perry Historical Museum\, 3885 Main Street\, Perry\, 44081\, United States
CATEGORIES:Musuem Open
ATTACH;FMTTYPE=image/jpeg:https://perryohiohistoricalsociety.org/wp-content/uploads/2022/09/perry-historical-museum-1.jpg
END:VEVENT
BEGIN:VEVENT
DTSTART;TZID=America/New_York:20221022T120000
DTEND;TZID=America/New_York:20221022T160000
DTSTAMP:20260425T124616
CREATED:20221015T141838Z
LAST-MODIFIED:20221014T142440Z
UID:758-1666440000-1666454400@perryohiohistoricalsociety.org
SUMMARY:Museum Open
DESCRIPTION:The Museum is open every Saturday from 12pm -4pm
URL:https://perryohiohistoricalsociety.org/event/museum-open/
LOCATION:Perry Historical Museum\, 3885 Main Street\, Perry\, 44081\, United States
CATEGORIES:Musuem Open
ATTACH;FMTTYPE=image/jpeg:https://perryohiohistoricalsociety.org/wp-content/uploads/2022/09/perry-historical-museum.jpg
END:VEVENT
BEGIN:VEVENT
DTSTART;TZID=America/New_York:20221015T120000
DTEND;TZID=America/New_York:20221015T160000
DTSTAMP:20260425T124616
CREATED:20221014T141956Z
LAST-MODIFIED:20221014T142356Z
UID:760-1665835200-1665849600@perryohiohistoricalsociety.org
SUMMARY:Museum Open
DESCRIPTION:The Museum is open every Saturday from 12pm -4pm
URL:https://perryohiohistoricalsociety.org/event/760/
LOCATION:Perry Historical Museum\, 3885 Main Street\, Perry\, 44081\, United States
CATEGORIES:Musuem Open
ATTACH;FMTTYPE=image/jpeg:https://perryohiohistoricalsociety.org/wp-content/uploads/2022/09/perry-historical-museum-1.jpg
END:VEVENT
END:VCALENDAR