BEGIN:VCALENDAR
VERSION:2.0
PRODID:-//Perry Ohio Historical Society - ECPv6.15.18//NONSGML v1.0//EN
CALSCALE:GREGORIAN
METHOD:PUBLISH
X-ORIGINAL-URL:https://perryohiohistoricalsociety.org
X-WR-CALDESC:Events for Perry Ohio Historical Society
REFRESH-INTERVAL;VALUE=DURATION:PT1H
X-Robots-Tag:noindex
X-PUBLISHED-TTL:PT1H
BEGIN:VTIMEZONE
TZID:America/New_York
BEGIN:DAYLIGHT
TZOFFSETFROM:-0500
TZOFFSETTO:-0400
TZNAME:EDT
DTSTART:20220313T070000
END:DAYLIGHT
BEGIN:STANDARD
TZOFFSETFROM:-0400
TZOFFSETTO:-0500
TZNAME:EST
DTSTART:20221106T060000
END:STANDARD
BEGIN:DAYLIGHT
TZOFFSETFROM:-0500
TZOFFSETTO:-0400
TZNAME:EDT
DTSTART:20230312T070000
END:DAYLIGHT
BEGIN:STANDARD
TZOFFSETFROM:-0400
TZOFFSETTO:-0500
TZNAME:EST
DTSTART:20231105T060000
END:STANDARD
BEGIN:DAYLIGHT
TZOFFSETFROM:-0500
TZOFFSETTO:-0400
TZNAME:EDT
DTSTART:20240310T070000
END:DAYLIGHT
BEGIN:STANDARD
TZOFFSETFROM:-0400
TZOFFSETTO:-0500
TZNAME:EST
DTSTART:20241103T060000
END:STANDARD
END:VTIMEZONE
BEGIN:VEVENT
DTSTART;TZID=America/New_York:20231209T120000
DTEND;TZID=America/New_York:20231209T150000
DTSTAMP:20260425T162617
CREATED:20231005T151515Z
LAST-MODIFIED:20231005T151548Z
UID:949-1702123200-1702134000@perryohiohistoricalsociety.org
SUMMARY:Holiday Open House
DESCRIPTION:The Perry Historical Society will be hosting a holiday open house. Brian Dorr and Ben Soriano will be providing the Christmas music entertainment. \nWe hope you will join us for the sounds of the season and Christmas punch and cookies.
URL:https://perryohiohistoricalsociety.org/event/holiday-open-house-2/
LOCATION:Perry Historical Museum\, 3885 Main Street\, Perry\, 44081\, United States
CATEGORIES:Open House
ATTACH;FMTTYPE=image/jpeg:https://perryohiohistoricalsociety.org/wp-content/uploads/2022/09/Christmas-tree-museum.jpg
END:VEVENT
BEGIN:VEVENT
DTSTART;TZID=America/New_York:20230805T090000
DTEND;TZID=America/New_York:20230805T140000
DTSTAMP:20260425T162617
CREATED:20220929T163123Z
LAST-MODIFIED:20220929T163123Z
UID:317-1691226000-1691244000@perryohiohistoricalsociety.org
SUMMARY:Fundraiser in August
DESCRIPTION:Every August on the first Saturday of the month in conjunction with Perry Village Street Sale\, the Historical Society holds its Chinese Auction fundraiser.  The event takes place on the lawn of the museum from 9:00 am to 2:00 pm.  There is also a nursery stock sale\, 50/50 raffle and food concessions.
URL:https://perryohiohistoricalsociety.org/event/fundraiser-in-august/
LOCATION:Perry Historical Museum\, 3885 Main Street\, Perry\, 44081\, United States
CATEGORIES:Fundraiser,Open House
ATTACH;FMTTYPE=image/jpeg:https://perryohiohistoricalsociety.org/wp-content/uploads/2022/09/perry-historical-museum-1.jpg
END:VEVENT
END:VCALENDAR